BEGIN:VCALENDAR
VERSION:2.0
PRODID:-//一般社団法人徳之島観光連盟 - ECPv4.6.21//NONSGML v1.0//EN
CALSCALE:GREGORIAN
METHOD:PUBLISH
X-WR-CALNAME:一般社団法人徳之島観光連盟
X-ORIGINAL-URL:http://www.tokunoshima-kanko.com
X-WR-CALDESC:Events for 一般社団法人徳之島観光連盟
BEGIN:VEVENT
DTSTART;TZID=Asia/Tokyo:20180701T080000
DTEND;TZID=Asia/Tokyo:20180701T203000
DTSTAMP:20260425T164802
CREATED:20180317T060250Z
LAST-MODIFIED:20180711T073018Z
UID:6595-1530432000-1530477000@www.tokunoshima-kanko.com
SUMMARY:第31回2018トライアスロンIN徳之島大会
DESCRIPTION: \n
URL:http://www.tokunoshima-kanko.com/event/triathlon2018/
LOCATION:鹿児島県
END:VEVENT
END:VCALENDAR