BEGIN:VCALENDAR
VERSION:2.0
PRODID:-//一般社団法人徳之島観光連盟 - ECPv4.6.21//NONSGML v1.0//EN
CALSCALE:GREGORIAN
METHOD:PUBLISH
X-WR-CALNAME:一般社団法人徳之島観光連盟
X-ORIGINAL-URL:http://www.tokunoshima-kanko.com
X-WR-CALDESC:Events for 一般社団法人徳之島観光連盟
BEGIN:VEVENT
DTSTART;TZID=Asia/Tokyo:20200314T140000
DTEND;TZID=Asia/Tokyo:20200314T180000
DTSTAMP:20260423T200720
CREATED:20200212T022634Z
LAST-MODIFIED:20200310T011351Z
UID:13206-1584194400-1584208800@www.tokunoshima-kanko.com
SUMMARY:【中止】SUNSET　FESTIVAL～島の卒業祭～
DESCRIPTION: \n
URL:http://www.tokunoshima-kanko.com/event/sunset%e3%80%80festival%ef%bd%9e%e5%b3%b6%e3%81%ae%e5%8d%92%e6%a5%ad%e7%a5%ad%ef%bd%9e/
LOCATION:徳之島町諸田1410-1
END:VEVENT
END:VCALENDAR