BEGIN:VCALENDAR
VERSION:2.0
PRODID:-//一般社団法人徳之島観光連盟 - ECPv4.6.21//NONSGML v1.0//EN
CALSCALE:GREGORIAN
METHOD:PUBLISH
X-WR-CALNAME:一般社団法人徳之島観光連盟
X-ORIGINAL-URL:http://www.tokunoshima-kanko.com
X-WR-CALDESC:Events for 一般社団法人徳之島観光連盟
BEGIN:VEVENT
DTSTART;TZID=Asia/Tokyo:20180602T130000
DTEND;TZID=Asia/Tokyo:20180602T150000
DTSTAMP:20260425T152341
CREATED:20180423T055009Z
LAST-MODIFIED:20180423T055009Z
UID:7172-1527944400-1527951600@www.tokunoshima-kanko.com
SUMMARY:NHKラジオ『民謡をたずねて』公開収録（徳之島町制施行60周年記念事業）
DESCRIPTION:観覧には入場整理券が必要です。往復葉書にて5/11迄にお申込み下さい。 \n  \n
URL:http://www.tokunoshima-kanko.com/event/nhk%e3%83%a9%e3%82%b8%e3%82%aa%e3%80%8e%e6%b0%91%e8%ac%a1%e3%82%92%e3%81%9f%e3%81%9a%e3%81%ad%e3%81%a6%e3%80%8f%e5%85%ac%e9%96%8b%e5%8f%8e%e9%8c%b2%ef%bc%88%e5%be%b3%e4%b9%8b%e5%b3%b6%e7%94%ba/
LOCATION:徳之島町亀津７６７３\, 大島郡\, 鹿児島県\, 891-7101\, Japan
END:VEVENT
END:VCALENDAR