BEGIN:VCALENDAR
VERSION:2.0
PRODID:-//一般社団法人徳之島観光連盟 - ECPv4.6.21//NONSGML v1.0//EN
CALSCALE:GREGORIAN
METHOD:PUBLISH
X-WR-CALNAME:一般社団法人徳之島観光連盟
X-ORIGINAL-URL:http://www.tokunoshima-kanko.com
X-WR-CALDESC:Events for 一般社団法人徳之島観光連盟
BEGIN:VEVENT
DTSTART;VALUE=DATE:20190728
DTEND;VALUE=DATE:20190729
DTSTAMP:20260423T171730
CREATED:20190703T080830Z
LAST-MODIFIED:20190703T080830Z
UID:11325-1564272000-1564358399@www.tokunoshima-kanko.com
SUMMARY:Nツアーチャータークルーズぱしふぃっくびいなす号　歓迎闘牛大会
DESCRIPTION: \n
URL:http://www.tokunoshima-kanko.com/event/n%e3%83%84%e3%82%a2%e3%83%bc%e3%83%81%e3%83%a3%e3%83%bc%e3%82%bf%e3%83%bc%e3%82%af%e3%83%ab%e3%83%bc%e3%82%ba%e3%81%b1%e3%81%97%e3%81%b5%e3%81%83%e3%81%a3%e3%81%8f%e3%81%b3%e3%81%84%e3%81%aa%e3%81%99/
LOCATION:伊仙町目手久626
END:VEVENT
END:VCALENDAR