BEGIN:VCALENDAR
VERSION:2.0
PRODID:-//一般社団法人徳之島観光連盟 - ECPv4.6.21//NONSGML v1.0//EN
CALSCALE:GREGORIAN
METHOD:PUBLISH
X-WR-CALNAME:一般社団法人徳之島観光連盟
X-ORIGINAL-URL:http://www.tokunoshima-kanko.com
X-WR-CALDESC:Events for 一般社団法人徳之島観光連盟
BEGIN:VEVENT
DTSTART;TZID=Asia/Tokyo:20180319T150000
DTEND;TZID=Asia/Tokyo:20180319T190000
DTSTAMP:20260425T195852
CREATED:20180317T082306Z
LAST-MODIFIED:20180317T090743Z
UID:6626-1521471600-1521486000@www.tokunoshima-kanko.com
SUMMARY:民泊スタートアップセミナー
DESCRIPTION: \n～あなたにもできる民泊～ \n
URL:http://www.tokunoshima-kanko.com/event/minpaku-startup/
LOCATION:天城町平土野2691-1\, 大島郡\, 鹿児島県\, 891-7612\, Japan
END:VEVENT
END:VCALENDAR