BEGIN:VCALENDAR
VERSION:2.0
PRODID:-//一般社団法人徳之島観光連盟 - ECPv4.6.21//NONSGML v1.0//EN
CALSCALE:GREGORIAN
METHOD:PUBLISH
X-WR-CALNAME:一般社団法人徳之島観光連盟
X-ORIGINAL-URL:http://www.tokunoshima-kanko.com
X-WR-CALDESC:Events for 一般社団法人徳之島観光連盟
BEGIN:VEVENT
DTSTART;TZID=Asia/Tokyo:20191203T180000
DTEND;TZID=Asia/Tokyo:20191203T180000
DTSTAMP:20260423T161108
CREATED:20191127T070725Z
LAST-MODIFIED:20191127T070725Z
UID:12735-1575396000-1575396000@www.tokunoshima-kanko.com
SUMMARY:KONISHIKI LIVE in TOKUNOSHIMA
DESCRIPTION: \n
URL:http://www.tokunoshima-kanko.com/event/konishiki-live-in-tokunoshima/
LOCATION:徳之島町亀津7646
END:VEVENT
END:VCALENDAR