BEGIN:VCALENDAR
VERSION:2.0
PRODID:-//一般社団法人徳之島観光連盟 - ECPv4.6.21//NONSGML v1.0//EN
CALSCALE:GREGORIAN
METHOD:PUBLISH
X-WR-CALNAME:一般社団法人徳之島観光連盟
X-ORIGINAL-URL:http://www.tokunoshima-kanko.com
X-WR-CALDESC:Events for 一般社団法人徳之島観光連盟
BEGIN:VEVENT
DTSTART;TZID=Asia/Tokyo:20190429T100000
DTEND;TZID=Asia/Tokyo:20190429T100000
DTSTAMP:20260424T005233
CREATED:20190417T030350Z
LAST-MODIFIED:20190428T002536Z
UID:10872-1556532000-1556532000@www.tokunoshima-kanko.com
SUMMARY:2019夏一番! 海びらき
DESCRIPTION:\n\n\n※当日はプールの無料開放(10:30～12:00)\n　カヌー・ボートの無料貸し出し(13:00～)も予定されています。\n\n\n
URL:http://www.tokunoshima-kanko.com/event/2019%e5%a4%8f%e4%b8%80%e7%95%aa-%e6%b5%b7%e3%81%b3%e3%82%89%e3%81%8d/
LOCATION:天城町与名間６１０\, 大島郡\, 鹿児島県\, 891-7601\, Japan
END:VEVENT
END:VCALENDAR