BEGIN:VCALENDAR
VERSION:2.0
PRODID:-//一般社団法人徳之島観光連盟 - ECPv4.6.21//NONSGML v1.0//EN
CALSCALE:GREGORIAN
METHOD:PUBLISH
X-WR-CALNAME:一般社団法人徳之島観光連盟
X-ORIGINAL-URL:http://www.tokunoshima-kanko.com
X-WR-CALDESC:Events for 一般社団法人徳之島観光連盟
BEGIN:VEVENT
DTSTART;VALUE=DATE:20190811
DTEND;VALUE=DATE:20190812
DTSTAMP:20260423T114936
CREATED:20190713T053741Z
LAST-MODIFIED:20190809T065038Z
UID:11406-1565481600-1565567999@www.tokunoshima-kanko.com
SUMMARY:2019　令和元第３８回　どんどん祭り【※開催内容変更があります】
DESCRIPTION: \n【開会式】１６時４５分～（文化会館駐車場）\n【パレード】１６時５０分～（文化会館駐車場から亀津新港）\n【ステージイベント】１８時４０分 \n※花火大会は延期になりました。現在日程は未定です。 \n  \n
URL:http://www.tokunoshima-kanko.com/event/2019%e3%80%80%e3%81%a9%e3%82%93%e3%81%a9%e3%82%93%e7%a5%ad%e3%82%8a/
END:VEVENT
END:VCALENDAR