BEGIN:VCALENDAR
VERSION:2.0
PRODID:-//一般社団法人徳之島観光連盟 - ECPv4.6.21//NONSGML v1.0//EN
CALSCALE:GREGORIAN
METHOD:PUBLISH
X-WR-CALNAME:一般社団法人徳之島観光連盟
X-ORIGINAL-URL:http://www.tokunoshima-kanko.com
X-WR-CALDESC:Events for 一般社団法人徳之島観光連盟
BEGIN:VEVENT
DTSTART;TZID=Asia/Tokyo:20180814T180000
DTEND;TZID=Asia/Tokyo:20180814T180000
DTSTAMP:20260425T110254
CREATED:20180807T043815Z
LAST-MODIFIED:20180807T044126Z
UID:8378-1534269600-1534269600@www.tokunoshima-kanko.com
SUMMARY:お盆ナイター闘牛大会
DESCRIPTION: \n
URL:http://www.tokunoshima-kanko.com/event/2018%e5%b9%b4%e2%98%86%e5%be%b3%e4%b9%8b%e5%b3%b6%e9%97%98%e7%89%9b%e3%81%b5%e3%82%8b%e3%81%95%e3%81%a8%e7%a5%ad/
LOCATION:伊仙町目手久626\, 大島郡\, 鹿児島県\, 891-8113\, Japan
END:VEVENT
END:VCALENDAR