BEGIN:VCALENDAR
VERSION:2.0
PRODID:-//一般社団法人徳之島観光連盟 - ECPv4.6.21//NONSGML v1.0//EN
CALSCALE:GREGORIAN
METHOD:PUBLISH
X-WR-CALNAME:一般社団法人徳之島観光連盟
X-ORIGINAL-URL:http://www.tokunoshima-kanko.com
X-WR-CALDESC:Events for 一般社団法人徳之島観光連盟
BEGIN:VEVENT
DTSTART;TZID=Asia/Tokyo:20180813T183000
DTEND;TZID=Asia/Tokyo:20180813T183000
DTSTAMP:20260425T104242
CREATED:20180807T044454Z
LAST-MODIFIED:20180807T044454Z
UID:8388-1534185000-1534185000@www.tokunoshima-kanko.com
SUMMARY:2018年☆徳之島闘牛ふるさと祭
DESCRIPTION: \n
URL:http://www.tokunoshima-kanko.com/event/2018%e5%b9%b4%e2%98%86%e5%be%b3%e4%b9%8b%e5%b3%b6%e9%97%98%e7%89%9b%e3%81%b5%e3%82%8b%e3%81%95%e3%81%a8%e7%a5%ad-2/
LOCATION:伊仙町目手久626\, 大島郡\, 鹿児島県\, 891-8113\, Japan
END:VEVENT
END:VCALENDAR