BEGIN:VCALENDAR
VERSION:2.0
PRODID:-//一般社団法人徳之島観光連盟 - ECPv4.6.21//NONSGML v1.0//EN
CALSCALE:GREGORIAN
METHOD:PUBLISH
X-WR-CALNAME:一般社団法人徳之島観光連盟
X-ORIGINAL-URL:http://www.tokunoshima-kanko.com
X-WR-CALDESC:Events for 一般社団法人徳之島観光連盟
BEGIN:VEVENT
DTSTART;TZID=Asia/Tokyo:20190901T080000
DTEND;TZID=Asia/Tokyo:20190901T170000
DTSTAMP:20260423T114611
CREATED:20190901T090455Z
LAST-MODIFIED:20190901T090455Z
UID:11933-1567324800-1567357200@www.tokunoshima-kanko.com
SUMMARY:～9月8日（日）秋の始まりは雅なひと時を～
DESCRIPTION:徳之島の伊仙町出身者で、日本舞踊で新たな流派を\n立ち上げた若い舞踏家さんがいらっしゃるのを\nご存知でしょうか？ \n\nここ数年は関東と徳之島を往来し、お弟子さんの\n指導にあたってこられましたが、いよいよ\nお師匠様ご本人とお弟子さん達の徳之島での\n舞台が実現します！ \n～～～～紫乃井流・徳之島公演～～～～ \n日時：2019年9月8日（日）18時～\n場所：徳之島町文化会館\n料金：前売券3\,000円／当日券4\,000円 \n～～～～～～～～～～～～～～～～～～～ \n徳之島ではあまり馴染みのなかった\n古典の美を、ぜひ感じてみたいものです^^ \n\n  \n \n
URL:http://www.tokunoshima-kanko.com/event/%ef%bd%9e9%e6%9c%888%e6%97%a5%ef%bc%88%e6%97%a5%ef%bc%89%e7%a7%8b%e3%81%ae%e5%a7%8b%e3%81%be%e3%82%8a%e3%81%af%e9%9b%85%e3%81%aa%e3%81%b2%e3%81%a8%e6%99%82%e3%82%92%ef%bd%9e/
END:VEVENT
END:VCALENDAR