BEGIN:VCALENDAR
VERSION:2.0
PRODID:-//一般社団法人徳之島観光連盟 - ECPv4.6.21//NONSGML v1.0//EN
CALSCALE:GREGORIAN
METHOD:PUBLISH
X-WR-CALNAME:一般社団法人徳之島観光連盟
X-ORIGINAL-URL:http://www.tokunoshima-kanko.com
X-WR-CALDESC:Events for 一般社団法人徳之島観光連盟
BEGIN:VEVENT
DTSTART;TZID=Asia/Tokyo:20181021T083000
DTEND;TZID=Asia/Tokyo:20181022T150000
DTSTAMP:20260425T024732
CREATED:20181017T053659Z
LAST-MODIFIED:20181017T053659Z
UID:8992-1540110600-1540220400@www.tokunoshima-kanko.com
SUMMARY:ＪＡ秋まつり
DESCRIPTION:
URL:http://www.tokunoshima-kanko.com/event/%ef%bd%8a%ef%bd%81%e7%a7%8b%e3%81%be%e3%81%a4%e3%82%8a/
LOCATION:徳之島町亀津\, 大島郡\, 鹿児島県\, 891-7101\, Japan
END:VEVENT
END:VCALENDAR