BEGIN:VCALENDAR
VERSION:2.0
PRODID:-//一般社団法人徳之島観光連盟 - ECPv4.6.21//NONSGML v1.0//EN
CALSCALE:GREGORIAN
METHOD:PUBLISH
X-WR-CALNAME:一般社団法人徳之島観光連盟
X-ORIGINAL-URL:http://www.tokunoshima-kanko.com
X-WR-CALDESC:Events for 一般社団法人徳之島観光連盟
BEGIN:VEVENT
DTSTART;TZID=Asia/Tokyo:20180520T083000
DTEND;TZID=Asia/Tokyo:20180521T150000
DTSTAMP:20260425T174445
CREATED:20180510T000754Z
LAST-MODIFIED:20180510T001033Z
UID:7393-1526805000-1526914800@www.tokunoshima-kanko.com
SUMMARY:ＪＡ春まつり
DESCRIPTION:農機展示会・にわとり販売・たまごタイムサービス \n
URL:http://www.tokunoshima-kanko.com/event/%ef%bd%8a%ef%bd%81%e6%98%a5%e3%81%be%e3%81%a4%e3%82%8a/
LOCATION:徳之島町亀津\, 大島郡\, 鹿児島県\, 891-7101\, Japan
END:VEVENT
END:VCALENDAR