BEGIN:VCALENDAR
VERSION:2.0
PRODID:-//一般社団法人徳之島観光連盟 - ECPv4.6.21//NONSGML v1.0//EN
CALSCALE:GREGORIAN
METHOD:PUBLISH
X-WR-CALNAME:一般社団法人徳之島観光連盟
X-ORIGINAL-URL:http://www.tokunoshima-kanko.com
X-WR-CALDESC:Events for 一般社団法人徳之島観光連盟
BEGIN:VEVENT
DTSTART;TZID=Asia/Tokyo:20180722T100000
DTEND;TZID=Asia/Tokyo:20180722T130000
DTSTAMP:20260425T134159
CREATED:20180718T045512Z
LAST-MODIFIED:20180718T045512Z
UID:8183-1532253600-1532264400@www.tokunoshima-kanko.com
SUMMARY:＜夏休み企画＞イベント・闘牛PR祭
DESCRIPTION: \n
URL:http://www.tokunoshima-kanko.com/event/%ef%bc%9c%e5%a4%8f%e4%bc%91%e3%81%bf%e4%bc%81%e7%94%bb%ef%bc%9e%e3%82%a4%e3%83%99%e3%83%b3%e3%83%88%e3%83%bb%e9%97%98%e7%89%9bpr%e7%a5%ad/
LOCATION:伊仙町目手久626\, 大島郡\, 鹿児島県\, 891-8113\, Japan
END:VEVENT
END:VCALENDAR