BEGIN:VCALENDAR
VERSION:2.0
PRODID:-//一般社団法人徳之島観光連盟 - ECPv4.6.21//NONSGML v1.0//EN
CALSCALE:GREGORIAN
METHOD:PUBLISH
X-WR-CALNAME:一般社団法人徳之島観光連盟
X-ORIGINAL-URL:http://www.tokunoshima-kanko.com
X-WR-CALDESC:Events for 一般社団法人徳之島観光連盟
BEGIN:VEVENT
DTSTART;TZID=Asia/Tokyo:20180429T100000
DTEND;TZID=Asia/Tokyo:20180429T100000
DTSTAMP:20260425T213548
CREATED:20180413T011255Z
LAST-MODIFIED:20180421T013924Z
UID:6922-1524996000-1524996000@www.tokunoshima-kanko.com
SUMMARY:2018 夏一番! 海びらき＆海洋センター艇庫リニューアル式典
DESCRIPTION: \n10：00～安全祈願祭\n10：30～海開き・B&G艇庫リニューアル式典\n11：00～講演会「NPO法人沖縄ウォーターパトロール音野大志氏」\n11：30～潮干り \n※当日はプールの無料開放、カヌー・カーニバルボートの無料貸し出しを実施。 \n
URL:http://www.tokunoshima-kanko.com/event/%ef%bc%92%ef%bc%90%ef%bc%91%ef%bc%98-%e5%a4%8f%e4%b8%80%e7%95%aa-%e6%b5%b7%e3%81%b3%e3%82%89%e3%81%8d%ef%bc%86%e6%b5%b7%e6%b4%8b%e3%82%bb%e3%83%b3%e3%82%bf%e3%83%bc%e8%89%87%e5%ba%ab%e3%83%aa/
LOCATION:天城町与名間６１０\, 大島郡\, 鹿児島県\, 891-7601\, Japan
END:VEVENT
END:VCALENDAR