BEGIN:VCALENDAR
VERSION:2.0
PRODID:-//一般社団法人徳之島観光連盟 - ECPv4.6.21//NONSGML v1.0//EN
CALSCALE:GREGORIAN
METHOD:PUBLISH
X-WR-CALNAME:一般社団法人徳之島観光連盟
X-ORIGINAL-URL:http://www.tokunoshima-kanko.com
X-WR-CALDESC:Events for 一般社団法人徳之島観光連盟
BEGIN:VEVENT
DTSTART;TZID=Asia/Tokyo:20190413T133000
DTEND;TZID=Asia/Tokyo:20190413T160000
DTSTAMP:20260424T031607
CREATED:20190413T034222Z
LAST-MODIFIED:20190413T034222Z
UID:10844-1555162200-1555171200@www.tokunoshima-kanko.com
SUMMARY:鹿児島大学「奄美群島 島めぐり 講演会」第１回in徳之島
DESCRIPTION: \n
URL:http://www.tokunoshima-kanko.com/event/%e9%b9%bf%e5%85%90%e5%b3%b6%e5%a4%a7%e5%ad%a6%e3%80%8c%e5%a5%84%e7%be%8e%e7%be%a4%e5%b3%b6-%e5%b3%b6%e3%82%81%e3%81%90%e3%82%8a-%e8%ac%9b%e6%bc%94%e4%bc%9a%e3%80%8d%e7%ac%ac%ef%bc%91%e5%9b%9ein/
END:VEVENT
END:VCALENDAR