BEGIN:VCALENDAR
VERSION:2.0
PRODID:-//一般社団法人徳之島観光連盟 - ECPv4.6.21//NONSGML v1.0//EN
CALSCALE:GREGORIAN
METHOD:PUBLISH
X-WR-CALNAME:一般社団法人徳之島観光連盟
X-ORIGINAL-URL:http://www.tokunoshima-kanko.com
X-WR-CALDESC:Events for 一般社団法人徳之島観光連盟
BEGIN:VEVENT
DTSTART;TZID=Asia/Tokyo:20180615T180000
DTEND;TZID=Asia/Tokyo:20180615T180000
DTSTAMP:20260425T151054
CREATED:20180523T052714Z
LAST-MODIFIED:20180523T052714Z
UID:7635-1529085600-1529085600@www.tokunoshima-kanko.com
SUMMARY:青少年育成町民会議
DESCRIPTION:
URL:http://www.tokunoshima-kanko.com/event/%e9%9d%92%e5%b0%91%e5%b9%b4%e8%82%b2%e6%88%90%e7%94%ba%e6%b0%91%e4%bc%9a%e8%ad%b0/
LOCATION:徳之島町亀津２９１８\, 大島郡\, 鹿児島県\, 891-7101\, Japan
END:VEVENT
END:VCALENDAR