BEGIN:VCALENDAR
VERSION:2.0
PRODID:-//一般社団法人徳之島観光連盟 - ECPv4.6.21//NONSGML v1.0//EN
CALSCALE:GREGORIAN
METHOD:PUBLISH
X-WR-CALNAME:一般社団法人徳之島観光連盟
X-ORIGINAL-URL:http://www.tokunoshima-kanko.com
X-WR-CALDESC:Events for 一般社団法人徳之島観光連盟
BEGIN:VEVENT
DTSTART;TZID=Asia/Tokyo:20191221T170000
DTEND;TZID=Asia/Tokyo:20191221T203000
DTSTAMP:20260423T160609
CREATED:20191204T032853Z
LAST-MODIFIED:20191204T032853Z
UID:12784-1576947600-1576960200@www.tokunoshima-kanko.com
SUMMARY:郷演　中島清彦島唄40周年記念公演
DESCRIPTION: \n【日時】令和元年１２月２１日（土）　　開場１７：００　開演１８：００ \n【会場】徳之島町文化会館 \n【出演者】賛助出演　川本　栄昇 \n友情出演　嶺　勝己　　泉　サダ子　　澤　愛香 \n【前売券】一般２，０００円(当日５００円増）　高校生以下１，０００円(当日５００円増） \n【前売券販売場所】宝石油・徳田百貨店・徳之島町文化会館・JA旅行センター・フレッシュマートとくやま・サクライズ・直売所百菜・他出演者の皆さん \n【協力】徳之島三町文化協会・徳之島民謡研究会・伊仙町木之香集落・天城町岡前集落・昭和２７年生きばらん会・天城町老人クラブ連合会・岡前わかば会・中島島唄三味線道場・川本栄昇島唄教室 \n  \n
URL:http://www.tokunoshima-kanko.com/event/%e9%83%b7%e6%bc%94%e3%80%80%e4%b8%ad%e5%b3%b6%e6%b8%85%e5%bd%a6%e5%b3%b6%e5%94%8440%e5%91%a8%e5%b9%b4%e8%a8%98%e5%bf%b5%e5%85%ac%e6%bc%94/
LOCATION:徳之島町亀津7673
END:VEVENT
END:VCALENDAR