BEGIN:VCALENDAR
VERSION:2.0
PRODID:-//一般社団法人徳之島観光連盟 - ECPv4.6.21//NONSGML v1.0//EN
CALSCALE:GREGORIAN
METHOD:PUBLISH
X-WR-CALNAME:一般社団法人徳之島観光連盟
X-ORIGINAL-URL:http://www.tokunoshima-kanko.com
X-WR-CALDESC:Events for 一般社団法人徳之島観光連盟
BEGIN:VEVENT
DTSTART;TZID=Asia/Tokyo:20180610T083000
DTEND;TZID=Asia/Tokyo:20180610T083000
DTSTAMP:20260425T114702
CREATED:20180604T235711Z
LAST-MODIFIED:20180604T235711Z
UID:7830-1528619400-1528619400@www.tokunoshima-kanko.com
SUMMARY:轟木「豊年祭り」
DESCRIPTION:豊年を祈願し、青年団のみこしを先頭に、子どもみこしと飾り付けられた花車で「わっしょい」と住民総出の祭りです。 \n
URL:http://www.tokunoshima-kanko.com/event/%e8%bd%9f%e6%9c%a8%e3%80%8c%e8%b1%8a%e5%b9%b4%e7%a5%ad%e3%82%8a%e3%80%8d/
LOCATION:徳之島町轟木\, 大島郡\, 鹿児島県\, 891-7424\, Japan
END:VEVENT
END:VCALENDAR