BEGIN:VCALENDAR
VERSION:2.0
PRODID:-//一般社団法人徳之島観光連盟 - ECPv4.6.21//NONSGML v1.0//EN
CALSCALE:GREGORIAN
METHOD:PUBLISH
X-WR-CALNAME:一般社団法人徳之島観光連盟
X-ORIGINAL-URL:http://www.tokunoshima-kanko.com
X-WR-CALDESC:Events for 一般社団法人徳之島観光連盟
BEGIN:VEVENT
DTSTART;TZID=Asia/Tokyo:20180503T100000
DTEND;TZID=Asia/Tokyo:20180503T100000
DTSTAMP:20260425T211229
CREATED:20180412T063112Z
LAST-MODIFIED:20180421T002459Z
UID:6891-1525341600-1525341600@www.tokunoshima-kanko.com
SUMMARY:軽量級天城町大会（松原場所）
DESCRIPTION:  \n
URL:http://www.tokunoshima-kanko.com/event/%e8%bb%bd%e9%87%8f%e7%b4%9a%e5%a4%a9%e5%9f%8e%e7%94%ba%e5%a4%a7%e4%bc%9a%ef%bc%88%e6%9d%be%e5%8e%9f%e5%a0%b4%e6%89%80%ef%bc%89/
LOCATION:天城町松原\, 大島郡\, 鹿児島県\, 891-7602\, Japan
END:VEVENT
END:VCALENDAR