BEGIN:VCALENDAR
VERSION:2.0
PRODID:-//一般社団法人徳之島観光連盟 - ECPv4.6.21//NONSGML v1.0//EN
CALSCALE:GREGORIAN
METHOD:PUBLISH
X-WR-CALNAME:一般社団法人徳之島観光連盟
X-ORIGINAL-URL:http://www.tokunoshima-kanko.com
X-WR-CALDESC:Events for 一般社団法人徳之島観光連盟
BEGIN:VEVENT
DTSTART;TZID=Asia/Tokyo:20190609T090000
DTEND;TZID=Asia/Tokyo:20190609T090000
DTSTAMP:20260423T201613
CREATED:20190602T061707Z
LAST-MODIFIED:20190602T061707Z
UID:11109-1560070800-1560070800@www.tokunoshima-kanko.com
SUMMARY:花徳「豊年祭」
DESCRIPTION:豊年祭りは戦後から続けられ、青年団のみこしを先頭に「わっしょい」 \nと住民一体で盛り上がる伝統行事です。 \n
URL:http://www.tokunoshima-kanko.com/event/%e8%8a%b1%e5%be%b3%e3%80%8c%e8%b1%8a%e5%b9%b4%e7%a5%ad%e3%80%8d/
END:VEVENT
END:VCALENDAR