BEGIN:VCALENDAR
VERSION:2.0
PRODID:-//一般社団法人徳之島観光連盟 - ECPv4.6.21//NONSGML v1.0//EN
CALSCALE:GREGORIAN
METHOD:PUBLISH
X-WR-CALNAME:一般社団法人徳之島観光連盟
X-ORIGINAL-URL:http://www.tokunoshima-kanko.com
X-WR-CALDESC:Events for 一般社団法人徳之島観光連盟
BEGIN:VEVENT
DTSTART;TZID=Asia/Tokyo:20190520T183000
DTEND;TZID=Asia/Tokyo:20190520T183000
DTSTAMP:20260423T215645
CREATED:20190417T033152Z
LAST-MODIFIED:20190417T033152Z
UID:10889-1558377000-1558377000@www.tokunoshima-kanko.com
SUMMARY:航空自衛隊南西航空音楽隊コンサート
DESCRIPTION: \n※入場整理券が必要です。5/1より配布。 \n\n開場18:00\n開演18:30\n\n  \n
URL:http://www.tokunoshima-kanko.com/event/%e8%88%aa%e7%a9%ba%e8%87%aa%e8%a1%9b%e9%9a%8a%e5%8d%97%e8%a5%bf%e8%88%aa%e7%a9%ba%e9%9f%b3%e6%a5%bd%e9%9a%8a%e3%82%b3%e3%83%b3%e3%82%b5%e3%83%bc%e3%83%88/
LOCATION:徳之島町亀津７６７３\, 大島郡\, 鹿児島県\, 891-7101\, Japan
END:VEVENT
END:VCALENDAR