BEGIN:VCALENDAR
VERSION:2.0
PRODID:-//一般社団法人徳之島観光連盟 - ECPv4.6.21//NONSGML v1.0//EN
CALSCALE:GREGORIAN
METHOD:PUBLISH
X-WR-CALNAME:一般社団法人徳之島観光連盟
X-ORIGINAL-URL:http://www.tokunoshima-kanko.com
X-WR-CALDESC:Events for 一般社団法人徳之島観光連盟
BEGIN:VEVENT
DTSTART;TZID=Asia/Tokyo:20190316T100000
DTEND;TZID=Asia/Tokyo:20190316T100000
DTSTAMP:20260424T050738
CREATED:20190228T072659Z
LAST-MODIFIED:20190228T072659Z
UID:10560-1552730400-1552730400@www.tokunoshima-kanko.com
SUMMARY:自衛隊ヘリコプター殉職者十三回忌慰霊祭
DESCRIPTION:
URL:http://www.tokunoshima-kanko.com/event/%e8%87%aa%e8%a1%9b%e9%9a%8a%e3%83%98%e3%83%aa%e3%82%b3%e3%83%97%e3%82%bf%e3%83%bc%e6%ae%89%e8%81%b7%e8%80%85%e5%8d%81%e4%b8%89%e5%9b%9e%e5%bf%8c%e6%85%b0%e9%9c%8a%e7%a5%ad/
END:VEVENT
END:VCALENDAR