BEGIN:VCALENDAR
VERSION:2.0
PRODID:-//一般社団法人徳之島観光連盟 - ECPv4.6.21//NONSGML v1.0//EN
CALSCALE:GREGORIAN
METHOD:PUBLISH
X-WR-CALNAME:一般社団法人徳之島観光連盟
X-ORIGINAL-URL:http://www.tokunoshima-kanko.com
X-WR-CALDESC:Events for 一般社団法人徳之島観光連盟
BEGIN:VEVENT
DTSTART;TZID=Asia/Tokyo:20190622T103000
DTEND;TZID=Asia/Tokyo:20190622T103000
DTSTAMP:20260423T161037
CREATED:20190618T070610Z
LAST-MODIFIED:20190618T070610Z
UID:11219-1561199400-1561199400@www.tokunoshima-kanko.com
SUMMARY:義足のアスリートボブさんと！交流会
DESCRIPTION: \n
URL:http://www.tokunoshima-kanko.com/event/%e7%be%a9%e8%b6%b3%e3%81%ae%e3%82%a2%e3%82%b9%e3%83%aa%e3%83%bc%e3%83%88%e3%83%9c%e3%83%96%e3%81%95%e3%82%93%e3%81%a8%ef%bc%81%e4%ba%a4%e6%b5%81%e4%bc%9a/
LOCATION:徳之島町母間9375
END:VEVENT
END:VCALENDAR