BEGIN:VCALENDAR
VERSION:2.0
PRODID:-//一般社団法人徳之島観光連盟 - ECPv4.6.21//NONSGML v1.0//EN
CALSCALE:GREGORIAN
METHOD:PUBLISH
X-WR-CALNAME:一般社団法人徳之島観光連盟
X-ORIGINAL-URL:http://www.tokunoshima-kanko.com
X-WR-CALDESC:Events for 一般社団法人徳之島観光連盟
BEGIN:VEVENT
DTSTART;TZID=Asia/Tokyo:20200322T123000
DTEND;TZID=Asia/Tokyo:20200322T180000
DTSTAMP:20260423T203454
CREATED:20200131T023010Z
LAST-MODIFIED:20200310T011327Z
UID:13105-1584880200-1584900000@www.tokunoshima-kanko.com
SUMMARY:【延期】結-MUSUBI-島口ミュージカル
DESCRIPTION: \n
URL:http://www.tokunoshima-kanko.com/event/%e7%b5%90-musubi-%e5%b3%b6%e5%8f%a3%e3%83%9f%e3%83%a5%e3%83%bc%e3%82%b8%e3%82%ab%e3%83%ab-2/
LOCATION:天城町天城427
END:VEVENT
END:VCALENDAR