BEGIN:VCALENDAR
VERSION:2.0
PRODID:-//一般社団法人徳之島観光連盟 - ECPv4.6.21//NONSGML v1.0//EN
CALSCALE:GREGORIAN
METHOD:PUBLISH
X-WR-CALNAME:一般社団法人徳之島観光連盟
X-ORIGINAL-URL:http://www.tokunoshima-kanko.com
X-WR-CALDESC:Events for 一般社団法人徳之島観光連盟
BEGIN:VEVENT
DTSTART;TZID=Asia/Tokyo:20181202T170000
DTEND;TZID=Asia/Tokyo:20181202T170000
DTSTAMP:20260424T180339
CREATED:20181120T051606Z
LAST-MODIFIED:20181120T051645Z
UID:9354-1543770000-1543770000@www.tokunoshima-kanko.com
SUMMARY:細川　たかし　ディナーショウ
DESCRIPTION:１部／ﾃﾞｨﾅｰ17：00～、ショー17：45、 \n２部／ﾃﾞｨﾅｰ20：15、ショー21：00、 \n料金／SS席\19\,000、S\18\,000、A\17\,000 \n
URL:http://www.tokunoshima-kanko.com/event/%e7%b4%b0%e5%b7%9d%e3%80%80%e3%81%9f%e3%81%8b%e3%81%97%e3%80%80%e3%83%87%e3%82%a3%e3%83%8a%e3%83%bc%e3%82%b7%e3%83%a7%e3%82%a6/
LOCATION:徳之島町亀津\, 大島郡\, 鹿児島県\, Japan
END:VEVENT
END:VCALENDAR