BEGIN:VCALENDAR
VERSION:2.0
PRODID:-//一般社団法人徳之島観光連盟 - ECPv4.6.21//NONSGML v1.0//EN
CALSCALE:GREGORIAN
METHOD:PUBLISH
X-WR-CALNAME:一般社団法人徳之島観光連盟
X-ORIGINAL-URL:http://www.tokunoshima-kanko.com
X-WR-CALDESC:Events for 一般社団法人徳之島観光連盟
BEGIN:VEVENT
DTSTART;TZID=Asia/Tokyo:20200322T100000
DTEND;TZID=Asia/Tokyo:20200322T180000
DTSTAMP:20260423T202943
CREATED:20200127T013950Z
LAST-MODIFIED:20200310T011512Z
UID:13039-1584871200-1584900000@www.tokunoshima-kanko.com
SUMMARY:【中止】第9回徳之島祭り
DESCRIPTION: \n
URL:http://www.tokunoshima-kanko.com/event/%e7%ac%ac9%e5%9b%9e%e5%be%b3%e4%b9%8b%e5%b3%b6%e7%a5%ad%e3%82%8a-2/
LOCATION:兵庫県尼崎市神田中通1丁目
END:VEVENT
END:VCALENDAR