BEGIN:VCALENDAR
VERSION:2.0
PRODID:-//一般社団法人徳之島観光連盟 - ECPv4.6.21//NONSGML v1.0//EN
CALSCALE:GREGORIAN
METHOD:PUBLISH
X-WR-CALNAME:一般社団法人徳之島観光連盟
X-ORIGINAL-URL:http://www.tokunoshima-kanko.com
X-WR-CALDESC:Events for 一般社団法人徳之島観光連盟
BEGIN:VEVENT
DTSTART;VALUE=DATE:20190714
DTEND;VALUE=DATE:20190715
DTSTAMP:20260423T172357
CREATED:20190704T033818Z
LAST-MODIFIED:20190704T034226Z
UID:11306-1563062400-1563148799@www.tokunoshima-kanko.com
SUMMARY:第73回県体第60回大島地区大会（剣道競技）
DESCRIPTION:
URL:http://www.tokunoshima-kanko.com/event/%e7%ac%ac73%e5%9b%9e%e7%9c%8c%e4%bd%93%e7%ac%ac60%e5%9b%9e%e5%a4%a7%e5%b3%b6%e5%9c%b0%e5%8c%ba%e5%a4%a7%e4%bc%9a%ef%bc%88%e5%89%a3%e9%81%93%e7%ab%b6%e6%8a%80%ef%bc%89/
LOCATION:徳之島町亀津7023
END:VEVENT
END:VCALENDAR