BEGIN:VCALENDAR
VERSION:2.0
PRODID:-//一般社団法人徳之島観光連盟 - ECPv4.6.21//NONSGML v1.0//EN
CALSCALE:GREGORIAN
METHOD:PUBLISH
X-WR-CALNAME:一般社団法人徳之島観光連盟
X-ORIGINAL-URL:http://www.tokunoshima-kanko.com
X-WR-CALDESC:Events for 一般社団法人徳之島観光連盟
BEGIN:VEVENT
DTSTART;TZID=Asia/Tokyo:20180704T180000
DTEND;TZID=Asia/Tokyo:20180704T190000
DTSTAMP:20260425T164951
CREATED:20180523T054046Z
LAST-MODIFIED:20180711T072907Z
UID:7644-1530727200-1530730800@www.tokunoshima-kanko.com
SUMMARY:第72回県体第59回大島地区大会　スポーツ交歓大会結団式
DESCRIPTION:
URL:http://www.tokunoshima-kanko.com/event/%e7%ac%ac72%e5%9b%9e%e7%9c%8c%e4%bd%93%e7%ac%ac59%e5%9b%9e%e5%a4%a7%e5%b3%b6%e5%9c%b0%e5%8c%ba%e5%a4%a7%e4%bc%9a%e3%80%80%e3%82%b9%e3%83%9d%e3%83%bc%e3%83%84%e4%ba%a4%e6%ad%93%e5%a4%a7%e4%bc%9a/
LOCATION:徳之島町亀津２９１８\, 大島郡\, 鹿児島県\, 891-7101\, Japan
END:VEVENT
END:VCALENDAR