BEGIN:VCALENDAR
VERSION:2.0
PRODID:-//一般社団法人徳之島観光連盟 - ECPv4.6.21//NONSGML v1.0//EN
CALSCALE:GREGORIAN
METHOD:PUBLISH
X-WR-CALNAME:一般社団法人徳之島観光連盟
X-ORIGINAL-URL:http://www.tokunoshima-kanko.com
X-WR-CALDESC:Events for 一般社団法人徳之島観光連盟
BEGIN:VEVENT
DTSTART;TZID=Asia/Tokyo:20181007T083000
DTEND;TZID=Asia/Tokyo:20181007T160000
DTSTAMP:20260425T041711
CREATED:20180917T073014Z
LAST-MODIFIED:20181002T015406Z
UID:8814-1538901000-1538928000@www.tokunoshima-kanko.com
SUMMARY:（中止）第62回天城町町民体育祭
DESCRIPTION:
URL:http://www.tokunoshima-kanko.com/event/%e7%ac%ac62%e5%9b%9e%e5%a4%a9%e5%9f%8e%e7%94%ba%e7%94%ba%e6%b0%91%e4%bd%93%e8%82%b2%e7%a5%ad/
LOCATION:天城町浅間\, 大島郡\, 鹿児島県\, 891-7605\, Japan
END:VEVENT
END:VCALENDAR