BEGIN:VCALENDAR
VERSION:2.0
PRODID:-//一般社団法人徳之島観光連盟 - ECPv4.6.21//NONSGML v1.0//EN
CALSCALE:GREGORIAN
METHOD:PUBLISH
X-WR-CALNAME:一般社団法人徳之島観光連盟
X-ORIGINAL-URL:http://www.tokunoshima-kanko.com
X-WR-CALDESC:Events for 一般社団法人徳之島観光連盟
BEGIN:VEVENT
DTSTART;TZID=Asia/Tokyo:20181118T100000
DTEND;TZID=Asia/Tokyo:20181118T120000
DTSTAMP:20260424T222113
CREATED:20181022T055610Z
LAST-MODIFIED:20181022T055610Z
UID:9063-1542535200-1542542400@www.tokunoshima-kanko.com
SUMMARY:第6回徳之島町地区対抗駅伝競技大会
DESCRIPTION:町花徳支所から亀津までの8区間、15.6kmを町内11地区の13チームの選手104名が全力でタスキをつなぐ駅伝競走大会です。 \n
URL:http://www.tokunoshima-kanko.com/event/%e7%ac%ac6%e5%9b%9e%e5%be%b3%e4%b9%8b%e5%b3%b6%e7%94%ba%e5%9c%b0%e5%8c%ba%e5%af%be%e6%8a%97%e9%a7%85%e4%bc%9d%e7%ab%b6%e6%8a%80%e5%a4%a7%e4%bc%9a/
LOCATION:徳之島町花徳
END:VEVENT
END:VCALENDAR