BEGIN:VCALENDAR
VERSION:2.0
PRODID:-//一般社団法人徳之島観光連盟 - ECPv4.6.21//NONSGML v1.0//EN
CALSCALE:GREGORIAN
METHOD:PUBLISH
X-WR-CALNAME:一般社団法人徳之島観光連盟
X-ORIGINAL-URL:http://www.tokunoshima-kanko.com
X-WR-CALDESC:Events for 一般社団法人徳之島観光連盟
BEGIN:VEVENT
DTSTART;TZID=Asia/Tokyo:20200301T100000
DTEND;TZID=Asia/Tokyo:20200301T170000
DTSTAMP:20260423T203140
CREATED:20200131T033623Z
LAST-MODIFIED:20200131T033623Z
UID:13116-1583056800-1583082000@www.tokunoshima-kanko.com
SUMMARY:第6回奄美群島地域振興
DESCRIPTION: \n
URL:http://www.tokunoshima-kanko.com/event/%e7%ac%ac6%e5%9b%9e%e5%a5%84%e7%be%8e%e7%be%a4%e5%b3%b6%e5%9c%b0%e5%9f%9f%e6%8c%af%e8%88%88/
END:VEVENT
END:VCALENDAR