BEGIN:VCALENDAR
VERSION:2.0
PRODID:-//一般社団法人徳之島観光連盟 - ECPv4.6.21//NONSGML v1.0//EN
CALSCALE:GREGORIAN
METHOD:PUBLISH
X-WR-CALNAME:一般社団法人徳之島観光連盟
X-ORIGINAL-URL:http://www.tokunoshima-kanko.com
X-WR-CALDESC:Events for 一般社団法人徳之島観光連盟
BEGIN:VEVENT
DTSTART;TZID=Asia/Tokyo:20190715T083000
DTEND;TZID=Asia/Tokyo:20190715T140000
DTSTAMP:20260423T172031
CREATED:20190703T080548Z
LAST-MODIFIED:20190703T080548Z
UID:11321-1563179400-1563199200@www.tokunoshima-kanko.com
SUMMARY:第6回フォルティシモバレーボール教室
DESCRIPTION:学ぼう！楽しもう！島われんきゃ！ \n元Vリーガー、現役Vリーガーによる楽しく、適切な指導！ \n更にスペシャルビデオメッセージあり。誰かは当日のお楽しみ！！ \n当日参加者全員に素敵な記念品プレゼント！ \n12：00～13:00→サイン会、写真撮影！！ \n受付　8：00～　　参加費　５００円 \n申し込みはGoogle play開いて\nフォルティシモバレーボール教室インストールして申込してください。 \n  \n
URL:http://www.tokunoshima-kanko.com/event/%e7%ac%ac6%e5%9b%9e%e3%83%95%e3%82%a9%e3%83%ab%e3%83%86%e3%82%a3%e3%82%b7%e3%83%a2%e3%83%90%e3%83%ac%e3%83%bc%e3%83%9c%e3%83%bc%e3%83%ab%e6%95%99%e5%ae%a4/
LOCATION:天城町297
END:VEVENT
END:VCALENDAR