BEGIN:VCALENDAR
VERSION:2.0
PRODID:-//一般社団法人徳之島観光連盟 - ECPv4.6.21//NONSGML v1.0//EN
CALSCALE:GREGORIAN
METHOD:PUBLISH
X-WR-CALNAME:一般社団法人徳之島観光連盟
X-ORIGINAL-URL:http://www.tokunoshima-kanko.com
X-WR-CALDESC:Events for 一般社団法人徳之島観光連盟
BEGIN:VEVENT
DTSTART;TZID=Asia/Tokyo:20181111T100000
DTEND;TZID=Asia/Tokyo:20181111T123000
DTSTAMP:20260424T221822
CREATED:20181022T054156Z
LAST-MODIFIED:20181022T054156Z
UID:9046-1541930400-1541939400@www.tokunoshima-kanko.com
SUMMARY:第40回伊仙町駅伝競走大会
DESCRIPTION:喜念～糸木名小学校までの８区間１６．６キロのコースで行われます。 \n
URL:http://www.tokunoshima-kanko.com/event/%e7%ac%ac40%e5%9b%9e%e4%bc%8a%e4%bb%99%e7%94%ba%e9%a7%85%e4%bc%9d%e7%ab%b6%e8%b5%b0%e5%a4%a7%e4%bc%9a/
LOCATION:伊仙町喜念
END:VEVENT
END:VCALENDAR