BEGIN:VCALENDAR
VERSION:2.0
PRODID:-//一般社団法人徳之島観光連盟 - ECPv4.6.21//NONSGML v1.0//EN
CALSCALE:GREGORIAN
METHOD:PUBLISH
X-WR-CALNAME:一般社団法人徳之島観光連盟
X-ORIGINAL-URL:http://www.tokunoshima-kanko.com
X-WR-CALDESC:Events for 一般社団法人徳之島観光連盟
BEGIN:VEVENT
DTSTART;TZID=Asia/Tokyo:20181209T120000
DTEND;TZID=Asia/Tokyo:20181209T120000
DTSTAMP:20260424T133245
CREATED:20181206T000039Z
LAST-MODIFIED:20181206T000039Z
UID:9596-1544356800-1544356800@www.tokunoshima-kanko.com
SUMMARY:第32回徳之島ワイドマラソン
DESCRIPTION:距離28㎞・松原上区公民館スタート \n
URL:http://www.tokunoshima-kanko.com/event/%e7%ac%ac32%e5%9b%9e%e5%be%b3%e4%b9%8b%e5%b3%b6%e3%83%af%e3%82%a4%e3%83%89%e3%83%9e%e3%83%a9%e3%82%bd%e3%83%b3/
LOCATION:天城町松原\, 大島郡\, 鹿児島県\, 891-7602\, Japan
END:VEVENT
END:VCALENDAR