BEGIN:VCALENDAR
VERSION:2.0
PRODID:-//一般社団法人徳之島観光連盟 - ECPv4.6.21//NONSGML v1.0//EN
CALSCALE:GREGORIAN
METHOD:PUBLISH
X-WR-CALNAME:一般社団法人徳之島観光連盟
X-ORIGINAL-URL:http://www.tokunoshima-kanko.com
X-WR-CALDESC:Events for 一般社団法人徳之島観光連盟
BEGIN:VEVENT
DTSTART;TZID=Asia/Tokyo:20180408T120000
DTEND;TZID=Asia/Tokyo:20180408T120000
DTSTAMP:20260425T214350
CREATED:20180327T235244Z
LAST-MODIFIED:20180327T235540Z
UID:6738-1523188800-1523188800@www.tokunoshima-kanko.com
SUMMARY:第31回徳之島ワイドマラソン
DESCRIPTION:（受付）11:00～11:40、12時スタート、（スタート・ゴール）松原上区公民館、（距離）28Km、（参加料）無料 \n※競技中の事故等は自己責任となりますので十分ご注意下さい。 \n
URL:http://www.tokunoshima-kanko.com/event/%e7%ac%ac31%e5%9b%9e%e5%be%b3%e4%b9%8b%e5%b3%b6%e3%83%af%e3%82%a4%e3%83%89%e3%83%9e%e3%83%a9%e3%82%bd%e3%83%b3/
LOCATION:天城町松原\, 大島郡\, 鹿児島県\, 891-7602\, Japan
END:VEVENT
END:VCALENDAR