BEGIN:VCALENDAR
VERSION:2.0
PRODID:-//一般社団法人徳之島観光連盟 - ECPv4.6.21//NONSGML v1.0//EN
CALSCALE:GREGORIAN
METHOD:PUBLISH
X-WR-CALNAME:一般社団法人徳之島観光連盟
X-ORIGINAL-URL:http://www.tokunoshima-kanko.com
X-WR-CALDESC:Events for 一般社団法人徳之島観光連盟
BEGIN:VEVENT
DTSTART;TZID=Asia/Tokyo:20180422T120000
DTEND;TZID=Asia/Tokyo:20180422T120000
DTSTAMP:20260425T200758
CREATED:20180327T080220Z
LAST-MODIFIED:20180421T034313Z
UID:6735-1524398400-1524398400@www.tokunoshima-kanko.com
SUMMARY:第3回徳之島きびまつり
DESCRIPTION: \n闘牛大会・演芸・お楽しみ大抽選会 \n
URL:http://www.tokunoshima-kanko.com/event/%e7%ac%ac3%e5%9b%9e%e5%be%b3%e4%b9%8b%e5%b3%b6%e3%81%8d%e3%81%b3%e3%81%be%e3%81%a4%e3%82%8a/
LOCATION:伊仙町目手久626\, 大島郡\, 鹿児島県\, 891-8113\, Japan
END:VEVENT
END:VCALENDAR