BEGIN:VCALENDAR
VERSION:2.0
PRODID:-//一般社団法人徳之島観光連盟 - ECPv4.6.21//NONSGML v1.0//EN
CALSCALE:GREGORIAN
METHOD:PUBLISH
X-WR-CALNAME:一般社団法人徳之島観光連盟
X-ORIGINAL-URL:http://www.tokunoshima-kanko.com
X-WR-CALDESC:Events for 一般社団法人徳之島観光連盟
BEGIN:VEVENT
DTSTART;VALUE=DATE:20200102
DTEND;VALUE=DATE:20200103
DTSTAMP:20260423T154123
CREATED:20191206T042813Z
LAST-MODIFIED:20191206T042813Z
UID:12797-1577923200-1578009599@www.tokunoshima-kanko.com
SUMMARY:第27回徳之島中量級優勝旗争奪戦 昭和59.60年生厄払い闘牛大会
DESCRIPTION: \n
URL:http://www.tokunoshima-kanko.com/event/%e7%ac%ac27%e5%9b%9e%e5%be%b3%e4%b9%8b%e5%b3%b6%e4%b8%ad%e9%87%8f%e7%b4%9a%e5%84%aa%e5%8b%9d%e6%97%97%e4%ba%89%e5%a5%aa%e6%88%a6-%e6%98%ad%e5%92%8c59-60%e5%b9%b4%e7%94%9f%e5%8e%84%e6%89%95%e3%81%84/
END:VEVENT
END:VCALENDAR