BEGIN:VCALENDAR
VERSION:2.0
PRODID:-//一般社団法人徳之島観光連盟 - ECPv4.6.21//NONSGML v1.0//EN
CALSCALE:GREGORIAN
METHOD:PUBLISH
X-WR-CALNAME:一般社団法人徳之島観光連盟
X-ORIGINAL-URL:http://www.tokunoshima-kanko.com
X-WR-CALDESC:Events for 一般社団法人徳之島観光連盟
BEGIN:VEVENT
DTSTART;TZID=Asia/Tokyo:20190502T180000
DTEND;TZID=Asia/Tokyo:20190502T180000
DTSTAMP:20260424T013749
CREATED:20190413T025127Z
LAST-MODIFIED:20190417T031216Z
UID:10829-1556820000-1556820000@www.tokunoshima-kanko.com
SUMMARY:第25回徳之島軽量級優勝旗争奪戦
DESCRIPTION:入場料：￥3\,000(高校生以上)、￥1\,000(中学生)、小学生以下無料 \n  \n \n
URL:http://www.tokunoshima-kanko.com/event/%e7%ac%ac25%e5%9b%9e%e5%be%b3%e4%b9%8b%e5%b3%b6%e8%bb%bd%e9%87%8f%e7%b4%9a%e5%84%aa%e5%8b%9d%e6%97%97%e4%ba%89%e5%a5%aa%e6%88%a6/
LOCATION:伊仙町目手久626\, 大島郡\, 鹿児島県\, 891-8113\, Japan
END:VEVENT
END:VCALENDAR