BEGIN:VCALENDAR
VERSION:2.0
PRODID:-//一般社団法人徳之島観光連盟 - ECPv4.6.21//NONSGML v1.0//EN
CALSCALE:GREGORIAN
METHOD:PUBLISH
X-WR-CALNAME:一般社団法人徳之島観光連盟
X-ORIGINAL-URL:http://www.tokunoshima-kanko.com
X-WR-CALDESC:Events for 一般社団法人徳之島観光連盟
BEGIN:VEVENT
DTSTART;TZID=Asia/Tokyo:20190209T133000
DTEND;TZID=Asia/Tokyo:20190209T170000
DTSTAMP:20260424T101803
CREATED:20190117T013810Z
LAST-MODIFIED:20190117T013810Z
UID:10088-1549719000-1549731600@www.tokunoshima-kanko.com
SUMMARY:第2回ＪＡＬ折り紙ヒコーキ全国大会予選会
DESCRIPTION:協議参加者は材料費200円必要です。申込締切1月30日 \n
URL:http://www.tokunoshima-kanko.com/event/%e7%ac%ac2%e5%9b%9e%ef%bd%8a%ef%bd%81%ef%bd%8c%e6%8a%98%e3%82%8a%e7%b4%99%e3%83%92%e3%82%b3%e3%83%bc%e3%82%ad%e5%85%a8%e5%9b%bd%e5%a4%a7%e4%bc%9a%e4%ba%88%e9%81%b8%e4%bc%9a/
LOCATION:天城町天城４３０\, 大島郡\, 鹿児島県\, 891-7611\, Japan
END:VEVENT
END:VCALENDAR