BEGIN:VCALENDAR
VERSION:2.0
PRODID:-//一般社団法人徳之島観光連盟 - ECPv4.6.21//NONSGML v1.0//EN
CALSCALE:GREGORIAN
METHOD:PUBLISH
X-WR-CALNAME:一般社団法人徳之島観光連盟
X-ORIGINAL-URL:http://www.tokunoshima-kanko.com
X-WR-CALDESC:Events for 一般社団法人徳之島観光連盟
BEGIN:VEVENT
DTSTART;TZID=Asia/Tokyo:20200209T170000
DTEND;TZID=Asia/Tokyo:20200209T210000
DTSTAMP:20260423T190725
CREATED:20200203T031026Z
LAST-MODIFIED:20200203T031026Z
UID:13126-1581267600-1581282000@www.tokunoshima-kanko.com
SUMMARY:第2回母間さくら祭り
DESCRIPTION: \n
URL:http://www.tokunoshima-kanko.com/event/%e7%ac%ac2%e5%9b%9e%e6%af%8d%e9%96%93%e3%81%95%e3%81%8f%e3%82%89%e7%a5%ad%e3%82%8a/
END:VEVENT
END:VCALENDAR