BEGIN:VCALENDAR
VERSION:2.0
PRODID:-//一般社団法人徳之島観光連盟 - ECPv4.6.21//NONSGML v1.0//EN
CALSCALE:GREGORIAN
METHOD:PUBLISH
X-WR-CALNAME:一般社団法人徳之島観光連盟
X-ORIGINAL-URL:http://www.tokunoshima-kanko.com
X-WR-CALDESC:Events for 一般社団法人徳之島観光連盟
BEGIN:VEVENT
DTSTART;TZID=Asia/Tokyo:20190210T100000
DTEND;TZID=Asia/Tokyo:20190210T170000
DTSTAMP:20260424T092252
CREATED:20190117T014339Z
LAST-MODIFIED:20190202T002937Z
UID:10096-1549792800-1549818000@www.tokunoshima-kanko.com
SUMMARY:第2回徳之島ドローンフェスタ
DESCRIPTION: \n
URL:http://www.tokunoshima-kanko.com/event/%e7%ac%ac2%e5%9b%9e%e5%be%b3%e4%b9%8b%e5%b3%b6%e3%83%89%e3%83%ad%e3%83%bc%e3%83%b3%e3%83%95%e3%82%a7%e3%82%b9%e3%82%bf/
LOCATION:徳之島町徳和瀬765\, 大島郡\, 鹿児島県\, 891-7111\, Japan
END:VEVENT
END:VCALENDAR