BEGIN:VCALENDAR
VERSION:2.0
PRODID:-//一般社団法人徳之島観光連盟 - ECPv4.6.21//NONSGML v1.0//EN
CALSCALE:GREGORIAN
METHOD:PUBLISH
X-WR-CALNAME:一般社団法人徳之島観光連盟
X-ORIGINAL-URL:http://www.tokunoshima-kanko.com
X-WR-CALDESC:Events for 一般社団法人徳之島観光連盟
BEGIN:VEVENT
DTSTART;TZID=Asia/Tokyo:20181124T183000
DTEND;TZID=Asia/Tokyo:20181124T183000
DTSTAMP:20260424T190814
CREATED:20181122T044207Z
LAST-MODIFIED:20181122T044207Z
UID:9416-1543084200-1543084200@www.tokunoshima-kanko.com
SUMMARY:第18回ﾁｬﾘﾃｨｰｺﾝｻｰﾄ
DESCRIPTION: \n
URL:http://www.tokunoshima-kanko.com/event/%e7%ac%ac18%e5%9b%9e%ef%be%81%ef%bd%ac%ef%be%98%ef%be%83%ef%bd%a8%ef%bd%b0%ef%bd%ba%ef%be%9d%ef%bd%bb%ef%bd%b0%ef%be%84/
LOCATION:徳之島町亀津7673\, 大島郡\, 鹿児島県\, 891-7101\, Japan
END:VEVENT
END:VCALENDAR