BEGIN:VCALENDAR
VERSION:2.0
PRODID:-//一般社団法人徳之島観光連盟 - ECPv4.6.21//NONSGML v1.0//EN
CALSCALE:GREGORIAN
METHOD:PUBLISH
X-WR-CALNAME:一般社団法人徳之島観光連盟
X-ORIGINAL-URL:http://www.tokunoshima-kanko.com
X-WR-CALDESC:Events for 一般社団法人徳之島観光連盟
BEGIN:VEVENT
DTSTART;TZID=Asia/Tokyo:20180610T150000
DTEND;TZID=Asia/Tokyo:20180610T150000
DTSTAMP:20260425T133454
CREATED:20180423T055247Z
LAST-MODIFIED:20180511T061205Z
UID:7176-1528642800-1528642800@www.tokunoshima-kanko.com
SUMMARY:第13回 徳之島高校音楽部定期演奏会
DESCRIPTION:
URL:http://www.tokunoshima-kanko.com/event/%e7%ac%ac13%e5%9b%9e%e3%80%80%e5%be%b3%e4%b9%8b%e5%b3%b6%e9%ab%98%e6%a0%a1%e9%9f%b3%e6%a5%bd%e9%83%a8%e5%ae%9a%e6%9c%9f%e6%bc%94%e5%a5%8f%e4%bc%9a/
LOCATION:徳之島町亀津７６７３\, 大島郡\, 鹿児島県\, 891-7101\, Japan
END:VEVENT
END:VCALENDAR