BEGIN:VCALENDAR
VERSION:2.0
PRODID:-//一般社団法人徳之島観光連盟 - ECPv4.6.21//NONSGML v1.0//EN
CALSCALE:GREGORIAN
METHOD:PUBLISH
X-WR-CALNAME:一般社団法人徳之島観光連盟
X-ORIGINAL-URL:http://www.tokunoshima-kanko.com
X-WR-CALDESC:Events for 一般社団法人徳之島観光連盟
BEGIN:VEVENT
DTSTART;VALUE=DATE:20190713
DTEND;VALUE=DATE:20190714
DTSTAMP:20260423T143824
CREATED:20190713T052234Z
LAST-MODIFIED:20190713T052234Z
UID:11384-1562976000-1563062399@www.tokunoshima-kanko.com
SUMMARY:第12回　徳之島子ども音楽フェスティバル
DESCRIPTION: \n入場無料 \n会場…17：30 \n開演…18：00 \n  \n
URL:http://www.tokunoshima-kanko.com/event/%e7%ac%ac12%e5%9b%9e%e3%80%80%e5%be%b3%e4%b9%8b%e5%b3%b6%e5%ad%90%e3%81%a9%e3%82%82%e9%9f%b3%e6%a5%bd%e3%83%95%e3%82%a7%e3%82%b9%e3%83%86%e3%82%a3%e3%83%90%e3%83%ab/
LOCATION:徳之島町7673
END:VEVENT
END:VCALENDAR