BEGIN:VCALENDAR
VERSION:2.0
PRODID:-//一般社団法人徳之島観光連盟 - ECPv4.6.21//NONSGML v1.0//EN
CALSCALE:GREGORIAN
METHOD:PUBLISH
X-WR-CALNAME:一般社団法人徳之島観光連盟
X-ORIGINAL-URL:http://www.tokunoshima-kanko.com
X-WR-CALDESC:Events for 一般社団法人徳之島観光連盟
BEGIN:VEVENT
DTSTART;TZID=Asia/Tokyo:20190622T090000
DTEND;TZID=Asia/Tokyo:20190622T140000
DTSTAMP:20260423T173610
CREATED:20190510T080649Z
LAST-MODIFIED:20190510T081344Z
UID:11031-1561194000-1561212000@www.tokunoshima-kanko.com
SUMMARY:第10回2019チャレンジＫＩＤＳ徳之島大会
DESCRIPTION:小学生、中学生対象のトライアスロン大会 \n※申し込み締め切りは、2019年5月17日です。 \n
URL:http://www.tokunoshima-kanko.com/event/%e7%ac%ac10%e5%9b%9e2019%e3%83%81%e3%83%a3%e3%83%ac%e3%83%b3%e3%82%b8%ef%bd%8b%ef%bd%89%ef%bd%84%ef%bd%93%e5%be%b3%e4%b9%8b%e5%b3%b6%e5%a4%a7%e4%bc%9a/
END:VEVENT
END:VCALENDAR