BEGIN:VCALENDAR
VERSION:2.0
PRODID:-//一般社団法人徳之島観光連盟 - ECPv4.6.21//NONSGML v1.0//EN
CALSCALE:GREGORIAN
METHOD:PUBLISH
X-WR-CALNAME:一般社団法人徳之島観光連盟
X-ORIGINAL-URL:http://www.tokunoshima-kanko.com
X-WR-CALDESC:Events for 一般社団法人徳之島観光連盟
BEGIN:VEVENT
DTSTART;TZID=Asia/Tokyo:20181110T133000
DTEND;TZID=Asia/Tokyo:20181110T170000
DTSTAMP:20260424T215405
CREATED:20181101T002940Z
LAST-MODIFIED:20181101T021821Z
UID:9139-1541856600-1541869200@www.tokunoshima-kanko.com
SUMMARY:第1回日本メディカルヴィレッジ学会・生涯活躍のまち共催シンポジウム
DESCRIPTION:日本メディカル \n  \n  \n  \n
URL:http://www.tokunoshima-kanko.com/event/%e7%ac%ac1%e5%9b%9e%e6%97%a5%e6%9c%ac%e3%83%a1%e3%83%87%e3%82%a3%e3%82%ab%e3%83%ab%e3%83%b4%e3%82%a3%e3%83%ac%e3%83%83%e3%82%b8%e5%ad%a6%e4%bc%9a%e3%83%bb%e7%94%9f%e6%b6%af%e6%b4%bb%e8%ba%8d%e3%81%ae/
LOCATION:伊仙町伊仙2575-2\, 大島郡\, 鹿児島県\, 891-8201\, Japan
END:VEVENT
END:VCALENDAR