BEGIN:VCALENDAR
VERSION:2.0
PRODID:-//一般社団法人徳之島観光連盟 - ECPv4.6.21//NONSGML v1.0//EN
CALSCALE:GREGORIAN
METHOD:PUBLISH
X-WR-CALNAME:一般社団法人徳之島観光連盟
X-ORIGINAL-URL:http://www.tokunoshima-kanko.com
X-WR-CALDESC:Events for 一般社団法人徳之島観光連盟
BEGIN:VEVENT
DTSTART;TZID=Asia/Tokyo:20190330T183000
DTEND;TZID=Asia/Tokyo:20190330T183000
DTSTAMP:20260424T044121
CREATED:20190325T234418Z
LAST-MODIFIED:20190325T234418Z
UID:10689-1553970600-1553970600@www.tokunoshima-kanko.com
SUMMARY:第1回新民謡コンサート
DESCRIPTION: \n
URL:http://www.tokunoshima-kanko.com/event/%e7%ac%ac1%e5%9b%9e%e6%96%b0%e6%b0%91%e8%ac%a1%e3%82%b3%e3%83%b3%e3%82%b5%e3%83%bc%e3%83%88/
LOCATION:徳之島町亀津7673\, 大島郡\, 鹿児島県\, 891-7101\, Japan
END:VEVENT
END:VCALENDAR