BEGIN:VCALENDAR
VERSION:2.0
PRODID:-//一般社団法人徳之島観光連盟 - ECPv4.6.21//NONSGML v1.0//EN
CALSCALE:GREGORIAN
METHOD:PUBLISH
X-WR-CALNAME:一般社団法人徳之島観光連盟
X-ORIGINAL-URL:http://www.tokunoshima-kanko.com
X-WR-CALDESC:Events for 一般社団法人徳之島観光連盟
BEGIN:VEVENT
DTSTART;TZID=Asia/Tokyo:20180729T140000
DTEND;TZID=Asia/Tokyo:20180729T180000
DTSTAMP:20260425T133913
CREATED:20180711T055030Z
LAST-MODIFIED:20180711T055030Z
UID:8107-1532872800-1532887200@www.tokunoshima-kanko.com
SUMMARY:第1回徳之島みらい創りＣＡＭＰＵＳ2018
DESCRIPTION:島のみらいを共に創る　仲間をみつけませんか？当日は飲み物やお菓子を食べながら気軽におしゃべりをします。 \n
URL:http://www.tokunoshima-kanko.com/event/%e7%ac%ac1%e5%9b%9e%e5%be%b3%e4%b9%8b%e5%b3%b6%e3%81%bf%e3%82%89%e3%81%84%e5%89%b5%e3%82%8a%ef%bd%83%ef%bd%81%ef%bd%8d%ef%bd%90%ef%bd%95%ef%bd%932018/
LOCATION:徳之島町亀津２９１８\, 大島郡\, 鹿児島県\, 891-7101\, Japan
END:VEVENT
END:VCALENDAR