BEGIN:VCALENDAR
VERSION:2.0
PRODID:-//一般社団法人徳之島観光連盟 - ECPv4.6.21//NONSGML v1.0//EN
CALSCALE:GREGORIAN
METHOD:PUBLISH
X-WR-CALNAME:一般社団法人徳之島観光連盟
X-ORIGINAL-URL:http://www.tokunoshima-kanko.com
X-WR-CALDESC:Events for 一般社団法人徳之島観光連盟
BEGIN:VEVENT
DTSTART;TZID=Asia/Tokyo:20200202T100000
DTEND;TZID=Asia/Tokyo:20200202T170000
DTSTAMP:20260423T160745
CREATED:20200127T011105Z
LAST-MODIFIED:20200127T011105Z
UID:13023-1580637600-1580662800@www.tokunoshima-kanko.com
SUMMARY:第1回奄美の観光と物産展in沖縄
DESCRIPTION: \n【開催日時】2020年2月1日(土）12時～18時　2月2日（日）10時～17時 \n【開催場所】ぎのわん海浜公園中央広場（沖縄県宜野湾市真志喜4-2-2） \n【物産展】黒糖焼酎・黒糖製品・たんかん・大島紬製品などの販売　観光情報コーナー \n【奄美群島の文化芸能祭出演者】里歩夢寿（奄美大島）　堺眞子（喜界島）　内三千代（徳之島）　前田博美（沖永良部島）　川畑アキラ（与論島） \n【お問合せ先】 \nぐーんと奄美　0997-58-4888 \n  \n
URL:http://www.tokunoshima-kanko.com/event/%e7%ac%ac1%e5%9b%9e%e5%a5%84%e7%be%8e%e3%81%ae%e8%a6%b3%e5%85%89%e3%81%a8%e7%89%a9%e7%94%a3%e5%b1%95in%e6%b2%96%e7%b8%84-2/
END:VEVENT
END:VCALENDAR